BEGIN:VCALENDAR
VERSION:2.0
PRODID:-//Charger PTO - ECPv6.15.20//NONSGML v1.0//EN
CALSCALE:GREGORIAN
METHOD:PUBLISH
X-ORIGINAL-URL:https://chargerpto.ptoffice.co
X-WR-CALDESC:Events for Charger PTO
REFRESH-INTERVAL;VALUE=DURATION:PT1H
X-Robots-Tag:noindex
X-PUBLISHED-TTL:PT1H
BEGIN:VTIMEZONE
TZID:America/New_York
BEGIN:DAYLIGHT
TZOFFSETFROM:-0500
TZOFFSETTO:-0400
TZNAME:EDT
DTSTART:20230312T070000
END:DAYLIGHT
BEGIN:STANDARD
TZOFFSETFROM:-0400
TZOFFSETTO:-0500
TZNAME:EST
DTSTART:20231105T060000
END:STANDARD
BEGIN:DAYLIGHT
TZOFFSETFROM:-0500
TZOFFSETTO:-0400
TZNAME:EDT
DTSTART:20240310T070000
END:DAYLIGHT
BEGIN:STANDARD
TZOFFSETFROM:-0400
TZOFFSETTO:-0500
TZNAME:EST
DTSTART:20241103T060000
END:STANDARD
BEGIN:DAYLIGHT
TZOFFSETFROM:-0500
TZOFFSETTO:-0400
TZNAME:EDT
DTSTART:20250309T070000
END:DAYLIGHT
BEGIN:STANDARD
TZOFFSETFROM:-0400
TZOFFSETTO:-0500
TZNAME:EST
DTSTART:20251102T060000
END:STANDARD
BEGIN:DAYLIGHT
TZOFFSETFROM:-0500
TZOFFSETTO:-0400
TZNAME:EDT
DTSTART:20260308T070000
END:DAYLIGHT
BEGIN:STANDARD
TZOFFSETFROM:-0400
TZOFFSETTO:-0500
TZNAME:EST
DTSTART:20261101T060000
END:STANDARD
END:VTIMEZONE
BEGIN:VTIMEZONE
TZID:America/Los_Angeles
BEGIN:DAYLIGHT
TZOFFSETFROM:-0800
TZOFFSETTO:-0700
TZNAME:PDT
DTSTART:20230312T100000
END:DAYLIGHT
BEGIN:STANDARD
TZOFFSETFROM:-0700
TZOFFSETTO:-0800
TZNAME:PST
DTSTART:20231105T090000
END:STANDARD
BEGIN:DAYLIGHT
TZOFFSETFROM:-0800
TZOFFSETTO:-0700
TZNAME:PDT
DTSTART:20240310T100000
END:DAYLIGHT
BEGIN:STANDARD
TZOFFSETFROM:-0700
TZOFFSETTO:-0800
TZNAME:PST
DTSTART:20241103T090000
END:STANDARD
BEGIN:DAYLIGHT
TZOFFSETFROM:-0800
TZOFFSETTO:-0700
TZNAME:PDT
DTSTART:20250309T100000
END:DAYLIGHT
BEGIN:STANDARD
TZOFFSETFROM:-0700
TZOFFSETTO:-0800
TZNAME:PST
DTSTART:20251102T090000
END:STANDARD
BEGIN:DAYLIGHT
TZOFFSETFROM:-0800
TZOFFSETTO:-0700
TZNAME:PDT
DTSTART:20260308T100000
END:DAYLIGHT
BEGIN:STANDARD
TZOFFSETFROM:-0700
TZOFFSETTO:-0800
TZNAME:PST
DTSTART:20261101T090000
END:STANDARD
END:VTIMEZONE
BEGIN:VEVENT
DTSTART;VALUE=DATE:20250605
DTEND;VALUE=DATE:20250606
DTSTAMP:20260422T064434
CREATED:20240827T221748Z
LAST-MODIFIED:20240827T221748Z
UID:10000023-1749081600-1749167999@chargerpto.ptoffice.co
SUMMARY:Fun Day 2025
DESCRIPTION:
URL:https://chargerpto.ptoffice.co/event/fun-day-2025/
LOCATION:TVES
END:VEVENT
BEGIN:VEVENT
DTSTART;TZID=America/Los_Angeles:20250604T180000
DTEND;TZID=America/Los_Angeles:20250604T190000
DTSTAMP:20260422T064434
CREATED:20240827T015738Z
LAST-MODIFIED:20240827T015738Z
UID:10000011-1749060000-1749063600@chargerpto.ptoffice.co
SUMMARY:Monthly PTO Meeting
DESCRIPTION:
URL:https://chargerpto.ptoffice.co/event/monthly-pto-meeting/2025-06-04/
LOCATION:TVES Cafeteria
END:VEVENT
BEGIN:VEVENT
DTSTART;TZID=America/New_York:20250603T170000
DTEND;TZID=America/New_York:20250603T190000
DTSTAMP:20260422T064434
CREATED:20240827T221613Z
LAST-MODIFIED:20240827T221613Z
UID:10000022-1748970000-1748977200@chargerpto.ptoffice.co
SUMMARY:TVES Spring Music & Art Show
DESCRIPTION:
URL:https://chargerpto.ptoffice.co/event/tves-spring-music-art-show/
LOCATION:TVES
END:VEVENT
BEGIN:VEVENT
DTSTART;TZID=America/Los_Angeles:20250507T180000
DTEND;TZID=America/Los_Angeles:20250507T190000
DTSTAMP:20260422T064434
CREATED:20240827T015738Z
LAST-MODIFIED:20240827T015738Z
UID:10000010-1746640800-1746644400@chargerpto.ptoffice.co
SUMMARY:Monthly PTO Meeting
DESCRIPTION:
URL:https://chargerpto.ptoffice.co/event/monthly-pto-meeting/2025-05-07/
LOCATION:TVES Cafeteria
END:VEVENT
BEGIN:VEVENT
DTSTART;VALUE=DATE:20250505
DTEND;VALUE=DATE:20250510
DTSTAMP:20260422T064434
CREATED:20240827T221516Z
LAST-MODIFIED:20240827T221516Z
UID:10000021-1746403200-1746835199@chargerpto.ptoffice.co
SUMMARY:Staff Appreciation Week
DESCRIPTION:
URL:https://chargerpto.ptoffice.co/event/staff-appreciation-week/
LOCATION:TVES
END:VEVENT
BEGIN:VEVENT
DTSTART;VALUE=DATE:20250505
DTEND;VALUE=DATE:20250510
DTSTAMP:20260422T064434
CREATED:20240827T221414Z
LAST-MODIFIED:20240827T221414Z
UID:10000020-1746403200-1746835199@chargerpto.ptoffice.co
SUMMARY:BOGO Book Fair
DESCRIPTION:
URL:https://chargerpto.ptoffice.co/event/bogo-book-fair/
LOCATION:TVES
END:VEVENT
BEGIN:VEVENT
DTSTART;TZID=America/New_York:20250419T110000
DTEND;TZID=America/New_York:20250419T130000
DTSTAMP:20260422T064434
CREATED:20240827T221328Z
LAST-MODIFIED:20240827T221328Z
UID:10000019-1745060400-1745067600@chargerpto.ptoffice.co
SUMMARY:Easter Egg Hunt
DESCRIPTION:
URL:https://chargerpto.ptoffice.co/event/easter-egg-hunt/
LOCATION:Bigfoot Golf Course
END:VEVENT
BEGIN:VEVENT
DTSTART;TZID=America/Los_Angeles:20250402T180000
DTEND;TZID=America/Los_Angeles:20250402T190000
DTSTAMP:20260422T064434
CREATED:20240827T015738Z
LAST-MODIFIED:20240827T015738Z
UID:10000009-1743616800-1743620400@chargerpto.ptoffice.co
SUMMARY:Monthly PTO Meeting
DESCRIPTION:
URL:https://chargerpto.ptoffice.co/event/monthly-pto-meeting/2025-04-02/
LOCATION:TVES Cafeteria
END:VEVENT
BEGIN:VEVENT
DTSTART;TZID=America/New_York:20250318T170000
DTEND;TZID=America/New_York:20250318T190000
DTSTAMP:20260422T064434
CREATED:20240827T221138Z
LAST-MODIFIED:20240827T221138Z
UID:10000017-1742317200-1742324400@chargerpto.ptoffice.co
SUMMARY:Family Dinner & Dodgeball Night
DESCRIPTION:
URL:https://chargerpto.ptoffice.co/event/family-dinner-dodgeball-night/
LOCATION:TVES
END:VEVENT
BEGIN:VEVENT
DTSTART;TZID=America/Los_Angeles:20250305T180000
DTEND;TZID=America/Los_Angeles:20250305T190000
DTSTAMP:20260422T064434
CREATED:20240827T015738Z
LAST-MODIFIED:20240827T015738Z
UID:10000008-1741197600-1741201200@chargerpto.ptoffice.co
SUMMARY:Monthly PTO Meeting
DESCRIPTION:
URL:https://chargerpto.ptoffice.co/event/monthly-pto-meeting/2025-03-05/
LOCATION:TVES Cafeteria
END:VEVENT
BEGIN:VEVENT
DTSTART;TZID=America/New_York:20250227T170000
DTEND;TZID=America/New_York:20250227T190000
DTSTAMP:20260422T064434
CREATED:20240827T220927Z
LAST-MODIFIED:20240827T220927Z
UID:10000015-1740675600-1740682800@chargerpto.ptoffice.co
SUMMARY:Science Fair/STEAM Night/Dinner
DESCRIPTION:
URL:https://chargerpto.ptoffice.co/event/science-fair-steam-night-dinner/
LOCATION:TVES
END:VEVENT
BEGIN:VEVENT
DTSTART;VALUE=DATE:20250224
DTEND;VALUE=DATE:20250301
DTSTAMP:20260422T064434
CREATED:20240827T221009Z
LAST-MODIFIED:20240827T221009Z
UID:10000016-1740355200-1740787199@chargerpto.ptoffice.co
SUMMARY:Spring Book Fair
DESCRIPTION:
URL:https://chargerpto.ptoffice.co/event/spring-book-fair/
LOCATION:TVES
END:VEVENT
BEGIN:VEVENT
DTSTART;TZID=America/Los_Angeles:20250205T180000
DTEND;TZID=America/Los_Angeles:20250205T190000
DTSTAMP:20260422T064434
CREATED:20240827T015738Z
LAST-MODIFIED:20240827T015738Z
UID:10000007-1738778400-1738782000@chargerpto.ptoffice.co
SUMMARY:Monthly PTO Meeting
DESCRIPTION:
URL:https://chargerpto.ptoffice.co/event/monthly-pto-meeting/2025-02-05/
LOCATION:TVES Cafeteria
END:VEVENT
BEGIN:VEVENT
DTSTART;TZID=America/New_York:20250114T170000
DTEND;TZID=America/New_York:20250114T190000
DTSTAMP:20260422T064434
CREATED:20240827T220828Z
LAST-MODIFIED:20240827T220828Z
UID:10000014-1736874000-1736881200@chargerpto.ptoffice.co
SUMMARY:Board Games & Book Exchange/Dinner
DESCRIPTION:
URL:https://chargerpto.ptoffice.co/event/board-games-book-exchange-dinner/
END:VEVENT
BEGIN:VEVENT
DTSTART;TZID=America/New_York:20250108T180000
DTEND;TZID=America/New_York:20250108T190000
DTSTAMP:20260422T064434
CREATED:20240827T221219Z
LAST-MODIFIED:20240827T221219Z
UID:10000018-1736359200-1736362800@chargerpto.ptoffice.co
SUMMARY:Monthly PTO Meeting
DESCRIPTION:
URL:https://chargerpto.ptoffice.co/event/monthly-pto-meeting-2/
LOCATION:TVES Cafeteria
END:VEVENT
BEGIN:VEVENT
DTSTART;TZID=America/New_York:20241218T170000
DTEND;TZID=America/New_York:20241218T190000
DTSTAMP:20260422T064434
CREATED:20240827T220526Z
LAST-MODIFIED:20240827T220526Z
UID:10000013-1734541200-1734548400@chargerpto.ptoffice.co
SUMMARY:TVES Winter Concert/Dinner
DESCRIPTION:
URL:https://chargerpto.ptoffice.co/event/tves-winter-concert-dinner/
LOCATION:TVES Cafeteria
END:VEVENT
BEGIN:VEVENT
DTSTART;TZID=America/New_York:20241207T090000
DTEND;TZID=America/New_York:20241207T130000
DTSTAMP:20260422T064434
CREATED:20240827T220318Z
LAST-MODIFIED:20240827T220318Z
UID:10000012-1733562000-1733576400@chargerpto.ptoffice.co
SUMMARY:Breakfast with Santa
DESCRIPTION:
URL:https://chargerpto.ptoffice.co/event/breakfast-with-santa/
LOCATION:TVES Cafeteria
END:VEVENT
BEGIN:VEVENT
DTSTART;TZID=America/Los_Angeles:20241204T180000
DTEND;TZID=America/Los_Angeles:20241204T190000
DTSTAMP:20260422T064434
CREATED:20240827T015738Z
LAST-MODIFIED:20240827T015738Z
UID:10000006-1733335200-1733338800@chargerpto.ptoffice.co
SUMMARY:Monthly PTO Meeting
DESCRIPTION:
URL:https://chargerpto.ptoffice.co/event/monthly-pto-meeting/2024-12-04/
LOCATION:TVES Cafeteria
END:VEVENT
BEGIN:VEVENT
DTSTART;TZID=America/Los_Angeles:20241106T180000
DTEND;TZID=America/Los_Angeles:20241106T190000
DTSTAMP:20260422T064434
CREATED:20240827T015738Z
LAST-MODIFIED:20240827T015738Z
UID:10000005-1730916000-1730919600@chargerpto.ptoffice.co
SUMMARY:Monthly PTO Meeting
DESCRIPTION:
URL:https://chargerpto.ptoffice.co/event/monthly-pto-meeting/2024-11-06/
LOCATION:TVES Cafeteria
END:VEVENT
BEGIN:VEVENT
DTSTART;VALUE=DATE:20241026
DTEND;VALUE=DATE:20241027
DTSTAMP:20260422T064434
CREATED:20240827T015333Z
LAST-MODIFIED:20240827T015333Z
UID:10000002-1729900800-1729987199@chargerpto.ptoffice.co
SUMMARY:Costume Carnival
DESCRIPTION:
URL:https://chargerpto.ptoffice.co/event/costume-carnival/
LOCATION:TVES
END:VEVENT
BEGIN:VEVENT
DTSTART;TZID=America/Los_Angeles:20241002T180000
DTEND;TZID=America/Los_Angeles:20241002T190000
DTSTAMP:20260422T064434
CREATED:20240827T015738Z
LAST-MODIFIED:20240827T015738Z
UID:10000004-1727892000-1727895600@chargerpto.ptoffice.co
SUMMARY:Monthly PTO Meeting
DESCRIPTION:
URL:https://chargerpto.ptoffice.co/event/monthly-pto-meeting/2024-10-02/
LOCATION:TVES Cafeteria
END:VEVENT
BEGIN:VEVENT
DTSTART;VALUE=DATE:20240923
DTEND;VALUE=DATE:20240928
DTSTAMP:20260422T064434
CREATED:20240827T015229Z
LAST-MODIFIED:20240827T015229Z
UID:10000001-1727049600-1727481599@chargerpto.ptoffice.co
SUMMARY:Fall Book Fair
DESCRIPTION:
URL:https://chargerpto.ptoffice.co/event/fall-book-fair/
LOCATION:TVES
END:VEVENT
BEGIN:VEVENT
DTSTART;TZID=America/Los_Angeles:20240904T180000
DTEND;TZID=America/Los_Angeles:20240904T190000
DTSTAMP:20260422T064434
CREATED:20240827T015738Z
LAST-MODIFIED:20240827T015738Z
UID:10000003-1725472800-1725476400@chargerpto.ptoffice.co
SUMMARY:Monthly PTO Meeting
DESCRIPTION:
URL:https://chargerpto.ptoffice.co/event/monthly-pto-meeting/2024-09-04/
LOCATION:TVES Cafeteria
END:VEVENT
END:VCALENDAR